BEGIN:VCALENDAR
VERSION:2.0
PRODID:-//Wonders of Wildlife - ECPv6.15.18//NONSGML v1.0//EN
CALSCALE:GREGORIAN
METHOD:PUBLISH
X-ORIGINAL-URL:https://wondersofwildlife.org
X-WR-CALDESC:Events for Wonders of Wildlife
REFRESH-INTERVAL;VALUE=DURATION:PT1H
X-Robots-Tag:noindex
X-PUBLISHED-TTL:PT1H
BEGIN:VTIMEZONE
TZID:America/Chicago
BEGIN:DAYLIGHT
TZOFFSETFROM:-0600
TZOFFSETTO:-0500
TZNAME:CDT
DTSTART:20270314T080000
END:DAYLIGHT
BEGIN:STANDARD
TZOFFSETFROM:-0500
TZOFFSETTO:-0600
TZNAME:CST
DTSTART:20271107T070000
END:STANDARD
BEGIN:DAYLIGHT
TZOFFSETFROM:-0600
TZOFFSETTO:-0500
TZNAME:CDT
DTSTART:20280312T080000
END:DAYLIGHT
BEGIN:STANDARD
TZOFFSETFROM:-0500
TZOFFSETTO:-0600
TZNAME:CST
DTSTART:20281105T070000
END:STANDARD
BEGIN:DAYLIGHT
TZOFFSETFROM:-0600
TZOFFSETTO:-0500
TZNAME:CDT
DTSTART:20290311T080000
END:DAYLIGHT
BEGIN:STANDARD
TZOFFSETFROM:-0500
TZOFFSETTO:-0600
TZNAME:CST
DTSTART:20291104T070000
END:STANDARD
END:VTIMEZONE
BEGIN:VEVENT
DTSTART;TZID=America/Chicago:20280302T123000
DTEND;TZID=America/Chicago:20280302T133000
DTSTAMP:20260423T052810
CREATED:20240222T160724Z
LAST-MODIFIED:20240222T220051Z
UID:10004745-1835613000-1835616600@wondersofwildlife.org
SUMMARY:Community Pond Dive Show
DESCRIPTION:Every Tuesday and Thursday at 12:30 PM\, stop by our Community Pond exhibit to see our professional divers plunge into our two-story freshwater aquarium and care for the fish and wildlife in the exhibit. This experience is complimentary to all Wonders of Wildlife guests. No reservations are required.
URL:https://wondersofwildlife.org/event/community-pond/2028-03-02/
CATEGORIES:Daily Presentations
ATTACH;FMTTYPE=image/jpeg:https://wondersofwildlife.org/wp-content/uploads/2020/07/AA_River-Monsters-9.jpg
END:VEVENT
BEGIN:VEVENT
DTSTART;TZID=America/Chicago:20280302T130000
DTEND;TZID=America/Chicago:20280302T140000
DTSTAMP:20260423T052810
CREATED:20200701T204617Z
LAST-MODIFIED:20250603T204306Z
UID:10004168-1835614800-1835618400@wondersofwildlife.org
SUMMARY:Shark Feeding | Out to Sea
DESCRIPTION:Every Tuesday\, Thursday and Saturday at 1:00 PM\, stop by our Out to Sea exhibit to watch our team feed the sharks at Wonders of Wildlife. This experience is complimentary to all Wonders of Wildlife guests. No reservations are required.
URL:https://wondersofwildlife.org/event/shark-feeding-out-to-sea-2021-07-08/2028-03-02/
LOCATION:Out to Sea
CATEGORIES:Daily Presentations
ATTACH;FMTTYPE=image/jpeg:https://wondersofwildlife.org/wp-content/uploads/2020/05/AA_Out-to-Sea_lower_shark-1.jpg
END:VEVENT
BEGIN:VEVENT
DTSTART;TZID=America/Chicago:20280304T130000
DTEND;TZID=America/Chicago:20280304T140000
DTSTAMP:20260423T052810
CREATED:20200701T204617Z
LAST-MODIFIED:20250603T204306Z
UID:10004169-1835787600-1835791200@wondersofwildlife.org
SUMMARY:Shark Feeding | Out to Sea
DESCRIPTION:Every Tuesday\, Thursday and Saturday at 1:00 PM\, stop by our Out to Sea exhibit to watch our team feed the sharks at Wonders of Wildlife. This experience is complimentary to all Wonders of Wildlife guests. No reservations are required.
URL:https://wondersofwildlife.org/event/shark-feeding-out-to-sea-2021-07-08/2028-03-04/
LOCATION:Out to Sea
CATEGORIES:Daily Presentations
ATTACH;FMTTYPE=image/jpeg:https://wondersofwildlife.org/wp-content/uploads/2020/05/AA_Out-to-Sea_lower_shark-1.jpg
END:VEVENT
BEGIN:VEVENT
DTSTART;TZID=America/Chicago:20280307T123000
DTEND;TZID=America/Chicago:20280307T133000
DTSTAMP:20260423T052810
CREATED:20240222T160724Z
LAST-MODIFIED:20240222T220051Z
UID:10004746-1836045000-1836048600@wondersofwildlife.org
SUMMARY:Community Pond Dive Show
DESCRIPTION:Every Tuesday and Thursday at 12:30 PM\, stop by our Community Pond exhibit to see our professional divers plunge into our two-story freshwater aquarium and care for the fish and wildlife in the exhibit. This experience is complimentary to all Wonders of Wildlife guests. No reservations are required.
URL:https://wondersofwildlife.org/event/community-pond/2028-03-07/
CATEGORIES:Daily Presentations
ATTACH;FMTTYPE=image/jpeg:https://wondersofwildlife.org/wp-content/uploads/2020/07/AA_River-Monsters-9.jpg
END:VEVENT
BEGIN:VEVENT
DTSTART;TZID=America/Chicago:20280307T130000
DTEND;TZID=America/Chicago:20280307T140000
DTSTAMP:20260423T052810
CREATED:20200701T204617Z
LAST-MODIFIED:20250603T204306Z
UID:10004170-1836046800-1836050400@wondersofwildlife.org
SUMMARY:Shark Feeding | Out to Sea
DESCRIPTION:Every Tuesday\, Thursday and Saturday at 1:00 PM\, stop by our Out to Sea exhibit to watch our team feed the sharks at Wonders of Wildlife. This experience is complimentary to all Wonders of Wildlife guests. No reservations are required.
URL:https://wondersofwildlife.org/event/shark-feeding-out-to-sea-2021-07-08/2028-03-07/
LOCATION:Out to Sea
CATEGORIES:Daily Presentations
ATTACH;FMTTYPE=image/jpeg:https://wondersofwildlife.org/wp-content/uploads/2020/05/AA_Out-to-Sea_lower_shark-1.jpg
END:VEVENT
BEGIN:VEVENT
DTSTART;TZID=America/Chicago:20280309T123000
DTEND;TZID=America/Chicago:20280309T133000
DTSTAMP:20260423T052810
CREATED:20240222T160724Z
LAST-MODIFIED:20240222T220051Z
UID:10004747-1836217800-1836221400@wondersofwildlife.org
SUMMARY:Community Pond Dive Show
DESCRIPTION:Every Tuesday and Thursday at 12:30 PM\, stop by our Community Pond exhibit to see our professional divers plunge into our two-story freshwater aquarium and care for the fish and wildlife in the exhibit. This experience is complimentary to all Wonders of Wildlife guests. No reservations are required.
URL:https://wondersofwildlife.org/event/community-pond/2028-03-09/
CATEGORIES:Daily Presentations
ATTACH;FMTTYPE=image/jpeg:https://wondersofwildlife.org/wp-content/uploads/2020/07/AA_River-Monsters-9.jpg
END:VEVENT
BEGIN:VEVENT
DTSTART;TZID=America/Chicago:20280309T130000
DTEND;TZID=America/Chicago:20280309T140000
DTSTAMP:20260423T052810
CREATED:20200701T204617Z
LAST-MODIFIED:20250603T204306Z
UID:10004171-1836219600-1836223200@wondersofwildlife.org
SUMMARY:Shark Feeding | Out to Sea
DESCRIPTION:Every Tuesday\, Thursday and Saturday at 1:00 PM\, stop by our Out to Sea exhibit to watch our team feed the sharks at Wonders of Wildlife. This experience is complimentary to all Wonders of Wildlife guests. No reservations are required.
URL:https://wondersofwildlife.org/event/shark-feeding-out-to-sea-2021-07-08/2028-03-09/
LOCATION:Out to Sea
CATEGORIES:Daily Presentations
ATTACH;FMTTYPE=image/jpeg:https://wondersofwildlife.org/wp-content/uploads/2020/05/AA_Out-to-Sea_lower_shark-1.jpg
END:VEVENT
BEGIN:VEVENT
DTSTART;TZID=America/Chicago:20280311T130000
DTEND;TZID=America/Chicago:20280311T140000
DTSTAMP:20260423T052810
CREATED:20200701T204617Z
LAST-MODIFIED:20250603T204306Z
UID:10004172-1836392400-1836396000@wondersofwildlife.org
SUMMARY:Shark Feeding | Out to Sea
DESCRIPTION:Every Tuesday\, Thursday and Saturday at 1:00 PM\, stop by our Out to Sea exhibit to watch our team feed the sharks at Wonders of Wildlife. This experience is complimentary to all Wonders of Wildlife guests. No reservations are required.
URL:https://wondersofwildlife.org/event/shark-feeding-out-to-sea-2021-07-08/2028-03-11/
LOCATION:Out to Sea
CATEGORIES:Daily Presentations
ATTACH;FMTTYPE=image/jpeg:https://wondersofwildlife.org/wp-content/uploads/2020/05/AA_Out-to-Sea_lower_shark-1.jpg
END:VEVENT
BEGIN:VEVENT
DTSTART;TZID=America/Chicago:20280314T123000
DTEND;TZID=America/Chicago:20280314T133000
DTSTAMP:20260423T052810
CREATED:20240222T160724Z
LAST-MODIFIED:20240222T220051Z
UID:10004748-1836649800-1836653400@wondersofwildlife.org
SUMMARY:Community Pond Dive Show
DESCRIPTION:Every Tuesday and Thursday at 12:30 PM\, stop by our Community Pond exhibit to see our professional divers plunge into our two-story freshwater aquarium and care for the fish and wildlife in the exhibit. This experience is complimentary to all Wonders of Wildlife guests. No reservations are required.
URL:https://wondersofwildlife.org/event/community-pond/2028-03-14/
CATEGORIES:Daily Presentations
ATTACH;FMTTYPE=image/jpeg:https://wondersofwildlife.org/wp-content/uploads/2020/07/AA_River-Monsters-9.jpg
END:VEVENT
BEGIN:VEVENT
DTSTART;TZID=America/Chicago:20280314T130000
DTEND;TZID=America/Chicago:20280314T140000
DTSTAMP:20260423T052810
CREATED:20200701T204617Z
LAST-MODIFIED:20250603T204306Z
UID:10004173-1836651600-1836655200@wondersofwildlife.org
SUMMARY:Shark Feeding | Out to Sea
DESCRIPTION:Every Tuesday\, Thursday and Saturday at 1:00 PM\, stop by our Out to Sea exhibit to watch our team feed the sharks at Wonders of Wildlife. This experience is complimentary to all Wonders of Wildlife guests. No reservations are required.
URL:https://wondersofwildlife.org/event/shark-feeding-out-to-sea-2021-07-08/2028-03-14/
LOCATION:Out to Sea
CATEGORIES:Daily Presentations
ATTACH;FMTTYPE=image/jpeg:https://wondersofwildlife.org/wp-content/uploads/2020/05/AA_Out-to-Sea_lower_shark-1.jpg
END:VEVENT
BEGIN:VEVENT
DTSTART;TZID=America/Chicago:20280316T123000
DTEND;TZID=America/Chicago:20280316T133000
DTSTAMP:20260423T052810
CREATED:20240222T160724Z
LAST-MODIFIED:20240222T220051Z
UID:10004749-1836822600-1836826200@wondersofwildlife.org
SUMMARY:Community Pond Dive Show
DESCRIPTION:Every Tuesday and Thursday at 12:30 PM\, stop by our Community Pond exhibit to see our professional divers plunge into our two-story freshwater aquarium and care for the fish and wildlife in the exhibit. This experience is complimentary to all Wonders of Wildlife guests. No reservations are required.
URL:https://wondersofwildlife.org/event/community-pond/2028-03-16/
CATEGORIES:Daily Presentations
ATTACH;FMTTYPE=image/jpeg:https://wondersofwildlife.org/wp-content/uploads/2020/07/AA_River-Monsters-9.jpg
END:VEVENT
BEGIN:VEVENT
DTSTART;TZID=America/Chicago:20280316T130000
DTEND;TZID=America/Chicago:20280316T140000
DTSTAMP:20260423T052810
CREATED:20200701T204617Z
LAST-MODIFIED:20250603T204306Z
UID:10004174-1836824400-1836828000@wondersofwildlife.org
SUMMARY:Shark Feeding | Out to Sea
DESCRIPTION:Every Tuesday\, Thursday and Saturday at 1:00 PM\, stop by our Out to Sea exhibit to watch our team feed the sharks at Wonders of Wildlife. This experience is complimentary to all Wonders of Wildlife guests. No reservations are required.
URL:https://wondersofwildlife.org/event/shark-feeding-out-to-sea-2021-07-08/2028-03-16/
LOCATION:Out to Sea
CATEGORIES:Daily Presentations
ATTACH;FMTTYPE=image/jpeg:https://wondersofwildlife.org/wp-content/uploads/2020/05/AA_Out-to-Sea_lower_shark-1.jpg
END:VEVENT
BEGIN:VEVENT
DTSTART;TZID=America/Chicago:20280318T130000
DTEND;TZID=America/Chicago:20280318T140000
DTSTAMP:20260423T052810
CREATED:20200701T204617Z
LAST-MODIFIED:20250603T204306Z
UID:10004175-1836997200-1837000800@wondersofwildlife.org
SUMMARY:Shark Feeding | Out to Sea
DESCRIPTION:Every Tuesday\, Thursday and Saturday at 1:00 PM\, stop by our Out to Sea exhibit to watch our team feed the sharks at Wonders of Wildlife. This experience is complimentary to all Wonders of Wildlife guests. No reservations are required.
URL:https://wondersofwildlife.org/event/shark-feeding-out-to-sea-2021-07-08/2028-03-18/
LOCATION:Out to Sea
CATEGORIES:Daily Presentations
ATTACH;FMTTYPE=image/jpeg:https://wondersofwildlife.org/wp-content/uploads/2020/05/AA_Out-to-Sea_lower_shark-1.jpg
END:VEVENT
BEGIN:VEVENT
DTSTART;TZID=America/Chicago:20280321T123000
DTEND;TZID=America/Chicago:20280321T133000
DTSTAMP:20260423T052810
CREATED:20240222T160724Z
LAST-MODIFIED:20240222T220051Z
UID:10004750-1837254600-1837258200@wondersofwildlife.org
SUMMARY:Community Pond Dive Show
DESCRIPTION:Every Tuesday and Thursday at 12:30 PM\, stop by our Community Pond exhibit to see our professional divers plunge into our two-story freshwater aquarium and care for the fish and wildlife in the exhibit. This experience is complimentary to all Wonders of Wildlife guests. No reservations are required.
URL:https://wondersofwildlife.org/event/community-pond/2028-03-21/
CATEGORIES:Daily Presentations
ATTACH;FMTTYPE=image/jpeg:https://wondersofwildlife.org/wp-content/uploads/2020/07/AA_River-Monsters-9.jpg
END:VEVENT
BEGIN:VEVENT
DTSTART;TZID=America/Chicago:20280321T130000
DTEND;TZID=America/Chicago:20280321T140000
DTSTAMP:20260423T052810
CREATED:20200701T204617Z
LAST-MODIFIED:20250603T204306Z
UID:10004176-1837256400-1837260000@wondersofwildlife.org
SUMMARY:Shark Feeding | Out to Sea
DESCRIPTION:Every Tuesday\, Thursday and Saturday at 1:00 PM\, stop by our Out to Sea exhibit to watch our team feed the sharks at Wonders of Wildlife. This experience is complimentary to all Wonders of Wildlife guests. No reservations are required.
URL:https://wondersofwildlife.org/event/shark-feeding-out-to-sea-2021-07-08/2028-03-21/
LOCATION:Out to Sea
CATEGORIES:Daily Presentations
ATTACH;FMTTYPE=image/jpeg:https://wondersofwildlife.org/wp-content/uploads/2020/05/AA_Out-to-Sea_lower_shark-1.jpg
END:VEVENT
BEGIN:VEVENT
DTSTART;TZID=America/Chicago:20280323T123000
DTEND;TZID=America/Chicago:20280323T133000
DTSTAMP:20260423T052810
CREATED:20240222T160724Z
LAST-MODIFIED:20240222T220051Z
UID:10004751-1837427400-1837431000@wondersofwildlife.org
SUMMARY:Community Pond Dive Show
DESCRIPTION:Every Tuesday and Thursday at 12:30 PM\, stop by our Community Pond exhibit to see our professional divers plunge into our two-story freshwater aquarium and care for the fish and wildlife in the exhibit. This experience is complimentary to all Wonders of Wildlife guests. No reservations are required.
URL:https://wondersofwildlife.org/event/community-pond/2028-03-23/
CATEGORIES:Daily Presentations
ATTACH;FMTTYPE=image/jpeg:https://wondersofwildlife.org/wp-content/uploads/2020/07/AA_River-Monsters-9.jpg
END:VEVENT
BEGIN:VEVENT
DTSTART;TZID=America/Chicago:20280323T130000
DTEND;TZID=America/Chicago:20280323T140000
DTSTAMP:20260423T052810
CREATED:20200701T204617Z
LAST-MODIFIED:20250603T204306Z
UID:10004177-1837429200-1837432800@wondersofwildlife.org
SUMMARY:Shark Feeding | Out to Sea
DESCRIPTION:Every Tuesday\, Thursday and Saturday at 1:00 PM\, stop by our Out to Sea exhibit to watch our team feed the sharks at Wonders of Wildlife. This experience is complimentary to all Wonders of Wildlife guests. No reservations are required.
URL:https://wondersofwildlife.org/event/shark-feeding-out-to-sea-2021-07-08/2028-03-23/
LOCATION:Out to Sea
CATEGORIES:Daily Presentations
ATTACH;FMTTYPE=image/jpeg:https://wondersofwildlife.org/wp-content/uploads/2020/05/AA_Out-to-Sea_lower_shark-1.jpg
END:VEVENT
BEGIN:VEVENT
DTSTART;TZID=America/Chicago:20280325T130000
DTEND;TZID=America/Chicago:20280325T140000
DTSTAMP:20260423T052810
CREATED:20200701T204617Z
LAST-MODIFIED:20250603T204306Z
UID:10004178-1837602000-1837605600@wondersofwildlife.org
SUMMARY:Shark Feeding | Out to Sea
DESCRIPTION:Every Tuesday\, Thursday and Saturday at 1:00 PM\, stop by our Out to Sea exhibit to watch our team feed the sharks at Wonders of Wildlife. This experience is complimentary to all Wonders of Wildlife guests. No reservations are required.
URL:https://wondersofwildlife.org/event/shark-feeding-out-to-sea-2021-07-08/2028-03-25/
LOCATION:Out to Sea
CATEGORIES:Daily Presentations
ATTACH;FMTTYPE=image/jpeg:https://wondersofwildlife.org/wp-content/uploads/2020/05/AA_Out-to-Sea_lower_shark-1.jpg
END:VEVENT
BEGIN:VEVENT
DTSTART;TZID=America/Chicago:20280328T123000
DTEND;TZID=America/Chicago:20280328T133000
DTSTAMP:20260423T052810
CREATED:20240222T160724Z
LAST-MODIFIED:20240222T220051Z
UID:10004752-1837859400-1837863000@wondersofwildlife.org
SUMMARY:Community Pond Dive Show
DESCRIPTION:Every Tuesday and Thursday at 12:30 PM\, stop by our Community Pond exhibit to see our professional divers plunge into our two-story freshwater aquarium and care for the fish and wildlife in the exhibit. This experience is complimentary to all Wonders of Wildlife guests. No reservations are required.
URL:https://wondersofwildlife.org/event/community-pond/2028-03-28/
CATEGORIES:Daily Presentations
ATTACH;FMTTYPE=image/jpeg:https://wondersofwildlife.org/wp-content/uploads/2020/07/AA_River-Monsters-9.jpg
END:VEVENT
BEGIN:VEVENT
DTSTART;TZID=America/Chicago:20280328T130000
DTEND;TZID=America/Chicago:20280328T140000
DTSTAMP:20260423T052810
CREATED:20200701T204617Z
LAST-MODIFIED:20250603T204306Z
UID:10004179-1837861200-1837864800@wondersofwildlife.org
SUMMARY:Shark Feeding | Out to Sea
DESCRIPTION:Every Tuesday\, Thursday and Saturday at 1:00 PM\, stop by our Out to Sea exhibit to watch our team feed the sharks at Wonders of Wildlife. This experience is complimentary to all Wonders of Wildlife guests. No reservations are required.
URL:https://wondersofwildlife.org/event/shark-feeding-out-to-sea-2021-07-08/2028-03-28/
LOCATION:Out to Sea
CATEGORIES:Daily Presentations
ATTACH;FMTTYPE=image/jpeg:https://wondersofwildlife.org/wp-content/uploads/2020/05/AA_Out-to-Sea_lower_shark-1.jpg
END:VEVENT
BEGIN:VEVENT
DTSTART;TZID=America/Chicago:20280330T123000
DTEND;TZID=America/Chicago:20280330T133000
DTSTAMP:20260423T052810
CREATED:20240222T160724Z
LAST-MODIFIED:20240222T220051Z
UID:10004753-1838032200-1838035800@wondersofwildlife.org
SUMMARY:Community Pond Dive Show
DESCRIPTION:Every Tuesday and Thursday at 12:30 PM\, stop by our Community Pond exhibit to see our professional divers plunge into our two-story freshwater aquarium and care for the fish and wildlife in the exhibit. This experience is complimentary to all Wonders of Wildlife guests. No reservations are required.
URL:https://wondersofwildlife.org/event/community-pond/2028-03-30/
CATEGORIES:Daily Presentations
ATTACH;FMTTYPE=image/jpeg:https://wondersofwildlife.org/wp-content/uploads/2020/07/AA_River-Monsters-9.jpg
END:VEVENT
BEGIN:VEVENT
DTSTART;TZID=America/Chicago:20280330T130000
DTEND;TZID=America/Chicago:20280330T140000
DTSTAMP:20260423T052810
CREATED:20200701T204617Z
LAST-MODIFIED:20250603T204306Z
UID:10004180-1838034000-1838037600@wondersofwildlife.org
SUMMARY:Shark Feeding | Out to Sea
DESCRIPTION:Every Tuesday\, Thursday and Saturday at 1:00 PM\, stop by our Out to Sea exhibit to watch our team feed the sharks at Wonders of Wildlife. This experience is complimentary to all Wonders of Wildlife guests. No reservations are required.
URL:https://wondersofwildlife.org/event/shark-feeding-out-to-sea-2021-07-08/2028-03-30/
LOCATION:Out to Sea
CATEGORIES:Daily Presentations
ATTACH;FMTTYPE=image/jpeg:https://wondersofwildlife.org/wp-content/uploads/2020/05/AA_Out-to-Sea_lower_shark-1.jpg
END:VEVENT
BEGIN:VEVENT
DTSTART;TZID=America/Chicago:20280401T130000
DTEND;TZID=America/Chicago:20280401T140000
DTSTAMP:20260423T052810
CREATED:20200701T204617Z
LAST-MODIFIED:20250603T204306Z
UID:10004181-1838206800-1838210400@wondersofwildlife.org
SUMMARY:Shark Feeding | Out to Sea
DESCRIPTION:Every Tuesday\, Thursday and Saturday at 1:00 PM\, stop by our Out to Sea exhibit to watch our team feed the sharks at Wonders of Wildlife. This experience is complimentary to all Wonders of Wildlife guests. No reservations are required.
URL:https://wondersofwildlife.org/event/shark-feeding-out-to-sea-2021-07-08/2028-04-01/
LOCATION:Out to Sea
CATEGORIES:Daily Presentations
ATTACH;FMTTYPE=image/jpeg:https://wondersofwildlife.org/wp-content/uploads/2020/05/AA_Out-to-Sea_lower_shark-1.jpg
END:VEVENT
BEGIN:VEVENT
DTSTART;TZID=America/Chicago:20280404T123000
DTEND;TZID=America/Chicago:20280404T133000
DTSTAMP:20260423T052810
CREATED:20240222T160724Z
LAST-MODIFIED:20240222T220051Z
UID:10004754-1838464200-1838467800@wondersofwildlife.org
SUMMARY:Community Pond Dive Show
DESCRIPTION:Every Tuesday and Thursday at 12:30 PM\, stop by our Community Pond exhibit to see our professional divers plunge into our two-story freshwater aquarium and care for the fish and wildlife in the exhibit. This experience is complimentary to all Wonders of Wildlife guests. No reservations are required.
URL:https://wondersofwildlife.org/event/community-pond/2028-04-04/
CATEGORIES:Daily Presentations
ATTACH;FMTTYPE=image/jpeg:https://wondersofwildlife.org/wp-content/uploads/2020/07/AA_River-Monsters-9.jpg
END:VEVENT
BEGIN:VEVENT
DTSTART;TZID=America/Chicago:20280404T130000
DTEND;TZID=America/Chicago:20280404T140000
DTSTAMP:20260423T052810
CREATED:20200701T204617Z
LAST-MODIFIED:20250603T204306Z
UID:10004182-1838466000-1838469600@wondersofwildlife.org
SUMMARY:Shark Feeding | Out to Sea
DESCRIPTION:Every Tuesday\, Thursday and Saturday at 1:00 PM\, stop by our Out to Sea exhibit to watch our team feed the sharks at Wonders of Wildlife. This experience is complimentary to all Wonders of Wildlife guests. No reservations are required.
URL:https://wondersofwildlife.org/event/shark-feeding-out-to-sea-2021-07-08/2028-04-04/
LOCATION:Out to Sea
CATEGORIES:Daily Presentations
ATTACH;FMTTYPE=image/jpeg:https://wondersofwildlife.org/wp-content/uploads/2020/05/AA_Out-to-Sea_lower_shark-1.jpg
END:VEVENT
BEGIN:VEVENT
DTSTART;TZID=America/Chicago:20280406T123000
DTEND;TZID=America/Chicago:20280406T133000
DTSTAMP:20260423T052810
CREATED:20240222T160724Z
LAST-MODIFIED:20240222T220051Z
UID:10004755-1838637000-1838640600@wondersofwildlife.org
SUMMARY:Community Pond Dive Show
DESCRIPTION:Every Tuesday and Thursday at 12:30 PM\, stop by our Community Pond exhibit to see our professional divers plunge into our two-story freshwater aquarium and care for the fish and wildlife in the exhibit. This experience is complimentary to all Wonders of Wildlife guests. No reservations are required.
URL:https://wondersofwildlife.org/event/community-pond/2028-04-06/
CATEGORIES:Daily Presentations
ATTACH;FMTTYPE=image/jpeg:https://wondersofwildlife.org/wp-content/uploads/2020/07/AA_River-Monsters-9.jpg
END:VEVENT
BEGIN:VEVENT
DTSTART;TZID=America/Chicago:20280406T130000
DTEND;TZID=America/Chicago:20280406T140000
DTSTAMP:20260423T052810
CREATED:20200701T204617Z
LAST-MODIFIED:20250603T204306Z
UID:10004183-1838638800-1838642400@wondersofwildlife.org
SUMMARY:Shark Feeding | Out to Sea
DESCRIPTION:Every Tuesday\, Thursday and Saturday at 1:00 PM\, stop by our Out to Sea exhibit to watch our team feed the sharks at Wonders of Wildlife. This experience is complimentary to all Wonders of Wildlife guests. No reservations are required.
URL:https://wondersofwildlife.org/event/shark-feeding-out-to-sea-2021-07-08/2028-04-06/
LOCATION:Out to Sea
CATEGORIES:Daily Presentations
ATTACH;FMTTYPE=image/jpeg:https://wondersofwildlife.org/wp-content/uploads/2020/05/AA_Out-to-Sea_lower_shark-1.jpg
END:VEVENT
BEGIN:VEVENT
DTSTART;TZID=America/Chicago:20280408T130000
DTEND;TZID=America/Chicago:20280408T140000
DTSTAMP:20260423T052810
CREATED:20200701T204617Z
LAST-MODIFIED:20250603T204306Z
UID:10004184-1838811600-1838815200@wondersofwildlife.org
SUMMARY:Shark Feeding | Out to Sea
DESCRIPTION:Every Tuesday\, Thursday and Saturday at 1:00 PM\, stop by our Out to Sea exhibit to watch our team feed the sharks at Wonders of Wildlife. This experience is complimentary to all Wonders of Wildlife guests. No reservations are required.
URL:https://wondersofwildlife.org/event/shark-feeding-out-to-sea-2021-07-08/2028-04-08/
LOCATION:Out to Sea
CATEGORIES:Daily Presentations
ATTACH;FMTTYPE=image/jpeg:https://wondersofwildlife.org/wp-content/uploads/2020/05/AA_Out-to-Sea_lower_shark-1.jpg
END:VEVENT
BEGIN:VEVENT
DTSTART;TZID=America/Chicago:20280411T123000
DTEND;TZID=America/Chicago:20280411T133000
DTSTAMP:20260423T052810
CREATED:20240222T160724Z
LAST-MODIFIED:20240222T220051Z
UID:10004756-1839069000-1839072600@wondersofwildlife.org
SUMMARY:Community Pond Dive Show
DESCRIPTION:Every Tuesday and Thursday at 12:30 PM\, stop by our Community Pond exhibit to see our professional divers plunge into our two-story freshwater aquarium and care for the fish and wildlife in the exhibit. This experience is complimentary to all Wonders of Wildlife guests. No reservations are required.
URL:https://wondersofwildlife.org/event/community-pond/2028-04-11/
CATEGORIES:Daily Presentations
ATTACH;FMTTYPE=image/jpeg:https://wondersofwildlife.org/wp-content/uploads/2020/07/AA_River-Monsters-9.jpg
END:VEVENT
BEGIN:VEVENT
DTSTART;TZID=America/Chicago:20280411T130000
DTEND;TZID=America/Chicago:20280411T140000
DTSTAMP:20260423T052810
CREATED:20200701T204617Z
LAST-MODIFIED:20250603T204306Z
UID:10004185-1839070800-1839074400@wondersofwildlife.org
SUMMARY:Shark Feeding | Out to Sea
DESCRIPTION:Every Tuesday\, Thursday and Saturday at 1:00 PM\, stop by our Out to Sea exhibit to watch our team feed the sharks at Wonders of Wildlife. This experience is complimentary to all Wonders of Wildlife guests. No reservations are required.
URL:https://wondersofwildlife.org/event/shark-feeding-out-to-sea-2021-07-08/2028-04-11/
LOCATION:Out to Sea
CATEGORIES:Daily Presentations
ATTACH;FMTTYPE=image/jpeg:https://wondersofwildlife.org/wp-content/uploads/2020/05/AA_Out-to-Sea_lower_shark-1.jpg
END:VEVENT
END:VCALENDAR