BEGIN:VCALENDAR
VERSION:2.0
PRODID:-//Wonders of Wildlife - ECPv6.15.18//NONSGML v1.0//EN
CALSCALE:GREGORIAN
METHOD:PUBLISH
X-ORIGINAL-URL:https://wondersofwildlife.org
X-WR-CALDESC:Events for Wonders of Wildlife
REFRESH-INTERVAL;VALUE=DURATION:PT1H
X-Robots-Tag:noindex
X-PUBLISHED-TTL:PT1H
BEGIN:VTIMEZONE
TZID:America/Chicago
BEGIN:DAYLIGHT
TZOFFSETFROM:-0600
TZOFFSETTO:-0500
TZNAME:CDT
DTSTART:20260308T080000
END:DAYLIGHT
BEGIN:STANDARD
TZOFFSETFROM:-0500
TZOFFSETTO:-0600
TZNAME:CST
DTSTART:20261101T070000
END:STANDARD
BEGIN:DAYLIGHT
TZOFFSETFROM:-0600
TZOFFSETTO:-0500
TZNAME:CDT
DTSTART:20270314T080000
END:DAYLIGHT
BEGIN:STANDARD
TZOFFSETFROM:-0500
TZOFFSETTO:-0600
TZNAME:CST
DTSTART:20271107T070000
END:STANDARD
BEGIN:DAYLIGHT
TZOFFSETFROM:-0600
TZOFFSETTO:-0500
TZNAME:CDT
DTSTART:20280312T080000
END:DAYLIGHT
BEGIN:STANDARD
TZOFFSETFROM:-0500
TZOFFSETTO:-0600
TZNAME:CST
DTSTART:20281105T070000
END:STANDARD
BEGIN:DAYLIGHT
TZOFFSETFROM:-0600
TZOFFSETTO:-0500
TZNAME:CDT
DTSTART:20290311T080000
END:DAYLIGHT
BEGIN:STANDARD
TZOFFSETFROM:-0500
TZOFFSETTO:-0600
TZNAME:CST
DTSTART:20291104T070000
END:STANDARD
END:VTIMEZONE
BEGIN:VEVENT
DTSTART;TZID=America/Chicago:20271202T123000
DTEND;TZID=America/Chicago:20271202T133000
DTSTAMP:20260421T044729
CREATED:20240222T160724Z
LAST-MODIFIED:20240222T220051Z
UID:10004719-1827750600-1827754200@wondersofwildlife.org
SUMMARY:Community Pond Dive Show
DESCRIPTION:Every Tuesday and Thursday at 12:30 PM\, stop by our Community Pond exhibit to see our professional divers plunge into our two-story freshwater aquarium and care for the fish and wildlife in the exhibit. This experience is complimentary to all Wonders of Wildlife guests. No reservations are required.
URL:https://wondersofwildlife.org/event/community-pond/2027-12-02/
CATEGORIES:Daily Presentations
ATTACH;FMTTYPE=image/jpeg:https://wondersofwildlife.org/wp-content/uploads/2020/07/AA_River-Monsters-9.jpg
END:VEVENT
BEGIN:VEVENT
DTSTART;TZID=America/Chicago:20271202T130000
DTEND;TZID=America/Chicago:20271202T140000
DTSTAMP:20260421T044729
CREATED:20200701T204617Z
LAST-MODIFIED:20250603T204306Z
UID:10004129-1827752400-1827756000@wondersofwildlife.org
SUMMARY:Shark Feeding | Out to Sea
DESCRIPTION:Every Tuesday\, Thursday and Saturday at 1:00 PM\, stop by our Out to Sea exhibit to watch our team feed the sharks at Wonders of Wildlife. This experience is complimentary to all Wonders of Wildlife guests. No reservations are required.
URL:https://wondersofwildlife.org/event/shark-feeding-out-to-sea-2021-07-08/2027-12-02/
LOCATION:Out to Sea
CATEGORIES:Daily Presentations
ATTACH;FMTTYPE=image/jpeg:https://wondersofwildlife.org/wp-content/uploads/2020/05/AA_Out-to-Sea_lower_shark-1.jpg
END:VEVENT
BEGIN:VEVENT
DTSTART;TZID=America/Chicago:20271204T130000
DTEND;TZID=America/Chicago:20271204T140000
DTSTAMP:20260421T044729
CREATED:20200701T204617Z
LAST-MODIFIED:20250603T204306Z
UID:10004130-1827925200-1827928800@wondersofwildlife.org
SUMMARY:Shark Feeding | Out to Sea
DESCRIPTION:Every Tuesday\, Thursday and Saturday at 1:00 PM\, stop by our Out to Sea exhibit to watch our team feed the sharks at Wonders of Wildlife. This experience is complimentary to all Wonders of Wildlife guests. No reservations are required.
URL:https://wondersofwildlife.org/event/shark-feeding-out-to-sea-2021-07-08/2027-12-04/
LOCATION:Out to Sea
CATEGORIES:Daily Presentations
ATTACH;FMTTYPE=image/jpeg:https://wondersofwildlife.org/wp-content/uploads/2020/05/AA_Out-to-Sea_lower_shark-1.jpg
END:VEVENT
BEGIN:VEVENT
DTSTART;TZID=America/Chicago:20271207T123000
DTEND;TZID=America/Chicago:20271207T133000
DTSTAMP:20260421T044729
CREATED:20240222T160724Z
LAST-MODIFIED:20240222T220051Z
UID:10004720-1828182600-1828186200@wondersofwildlife.org
SUMMARY:Community Pond Dive Show
DESCRIPTION:Every Tuesday and Thursday at 12:30 PM\, stop by our Community Pond exhibit to see our professional divers plunge into our two-story freshwater aquarium and care for the fish and wildlife in the exhibit. This experience is complimentary to all Wonders of Wildlife guests. No reservations are required.
URL:https://wondersofwildlife.org/event/community-pond/2027-12-07/
CATEGORIES:Daily Presentations
ATTACH;FMTTYPE=image/jpeg:https://wondersofwildlife.org/wp-content/uploads/2020/07/AA_River-Monsters-9.jpg
END:VEVENT
BEGIN:VEVENT
DTSTART;TZID=America/Chicago:20271207T130000
DTEND;TZID=America/Chicago:20271207T140000
DTSTAMP:20260421T044729
CREATED:20200701T204617Z
LAST-MODIFIED:20250603T204306Z
UID:10004131-1828184400-1828188000@wondersofwildlife.org
SUMMARY:Shark Feeding | Out to Sea
DESCRIPTION:Every Tuesday\, Thursday and Saturday at 1:00 PM\, stop by our Out to Sea exhibit to watch our team feed the sharks at Wonders of Wildlife. This experience is complimentary to all Wonders of Wildlife guests. No reservations are required.
URL:https://wondersofwildlife.org/event/shark-feeding-out-to-sea-2021-07-08/2027-12-07/
LOCATION:Out to Sea
CATEGORIES:Daily Presentations
ATTACH;FMTTYPE=image/jpeg:https://wondersofwildlife.org/wp-content/uploads/2020/05/AA_Out-to-Sea_lower_shark-1.jpg
END:VEVENT
BEGIN:VEVENT
DTSTART;TZID=America/Chicago:20271209T123000
DTEND;TZID=America/Chicago:20271209T133000
DTSTAMP:20260421T044729
CREATED:20240222T160724Z
LAST-MODIFIED:20240222T220051Z
UID:10004721-1828355400-1828359000@wondersofwildlife.org
SUMMARY:Community Pond Dive Show
DESCRIPTION:Every Tuesday and Thursday at 12:30 PM\, stop by our Community Pond exhibit to see our professional divers plunge into our two-story freshwater aquarium and care for the fish and wildlife in the exhibit. This experience is complimentary to all Wonders of Wildlife guests. No reservations are required.
URL:https://wondersofwildlife.org/event/community-pond/2027-12-09/
CATEGORIES:Daily Presentations
ATTACH;FMTTYPE=image/jpeg:https://wondersofwildlife.org/wp-content/uploads/2020/07/AA_River-Monsters-9.jpg
END:VEVENT
BEGIN:VEVENT
DTSTART;TZID=America/Chicago:20271209T130000
DTEND;TZID=America/Chicago:20271209T140000
DTSTAMP:20260421T044729
CREATED:20200701T204617Z
LAST-MODIFIED:20250603T204306Z
UID:10004132-1828357200-1828360800@wondersofwildlife.org
SUMMARY:Shark Feeding | Out to Sea
DESCRIPTION:Every Tuesday\, Thursday and Saturday at 1:00 PM\, stop by our Out to Sea exhibit to watch our team feed the sharks at Wonders of Wildlife. This experience is complimentary to all Wonders of Wildlife guests. No reservations are required.
URL:https://wondersofwildlife.org/event/shark-feeding-out-to-sea-2021-07-08/2027-12-09/
LOCATION:Out to Sea
CATEGORIES:Daily Presentations
ATTACH;FMTTYPE=image/jpeg:https://wondersofwildlife.org/wp-content/uploads/2020/05/AA_Out-to-Sea_lower_shark-1.jpg
END:VEVENT
BEGIN:VEVENT
DTSTART;TZID=America/Chicago:20271211T130000
DTEND;TZID=America/Chicago:20271211T140000
DTSTAMP:20260421T044729
CREATED:20200701T204617Z
LAST-MODIFIED:20250603T204306Z
UID:10004133-1828530000-1828533600@wondersofwildlife.org
SUMMARY:Shark Feeding | Out to Sea
DESCRIPTION:Every Tuesday\, Thursday and Saturday at 1:00 PM\, stop by our Out to Sea exhibit to watch our team feed the sharks at Wonders of Wildlife. This experience is complimentary to all Wonders of Wildlife guests. No reservations are required.
URL:https://wondersofwildlife.org/event/shark-feeding-out-to-sea-2021-07-08/2027-12-11/
LOCATION:Out to Sea
CATEGORIES:Daily Presentations
ATTACH;FMTTYPE=image/jpeg:https://wondersofwildlife.org/wp-content/uploads/2020/05/AA_Out-to-Sea_lower_shark-1.jpg
END:VEVENT
BEGIN:VEVENT
DTSTART;TZID=America/Chicago:20271214T123000
DTEND;TZID=America/Chicago:20271214T133000
DTSTAMP:20260421T044729
CREATED:20240222T160724Z
LAST-MODIFIED:20240222T220051Z
UID:10004722-1828787400-1828791000@wondersofwildlife.org
SUMMARY:Community Pond Dive Show
DESCRIPTION:Every Tuesday and Thursday at 12:30 PM\, stop by our Community Pond exhibit to see our professional divers plunge into our two-story freshwater aquarium and care for the fish and wildlife in the exhibit. This experience is complimentary to all Wonders of Wildlife guests. No reservations are required.
URL:https://wondersofwildlife.org/event/community-pond/2027-12-14/
CATEGORIES:Daily Presentations
ATTACH;FMTTYPE=image/jpeg:https://wondersofwildlife.org/wp-content/uploads/2020/07/AA_River-Monsters-9.jpg
END:VEVENT
BEGIN:VEVENT
DTSTART;TZID=America/Chicago:20271214T130000
DTEND;TZID=America/Chicago:20271214T140000
DTSTAMP:20260421T044729
CREATED:20200701T204617Z
LAST-MODIFIED:20250603T204306Z
UID:10004134-1828789200-1828792800@wondersofwildlife.org
SUMMARY:Shark Feeding | Out to Sea
DESCRIPTION:Every Tuesday\, Thursday and Saturday at 1:00 PM\, stop by our Out to Sea exhibit to watch our team feed the sharks at Wonders of Wildlife. This experience is complimentary to all Wonders of Wildlife guests. No reservations are required.
URL:https://wondersofwildlife.org/event/shark-feeding-out-to-sea-2021-07-08/2027-12-14/
LOCATION:Out to Sea
CATEGORIES:Daily Presentations
ATTACH;FMTTYPE=image/jpeg:https://wondersofwildlife.org/wp-content/uploads/2020/05/AA_Out-to-Sea_lower_shark-1.jpg
END:VEVENT
BEGIN:VEVENT
DTSTART;TZID=America/Chicago:20271216T123000
DTEND;TZID=America/Chicago:20271216T133000
DTSTAMP:20260421T044729
CREATED:20240222T160724Z
LAST-MODIFIED:20240222T220051Z
UID:10004723-1828960200-1828963800@wondersofwildlife.org
SUMMARY:Community Pond Dive Show
DESCRIPTION:Every Tuesday and Thursday at 12:30 PM\, stop by our Community Pond exhibit to see our professional divers plunge into our two-story freshwater aquarium and care for the fish and wildlife in the exhibit. This experience is complimentary to all Wonders of Wildlife guests. No reservations are required.
URL:https://wondersofwildlife.org/event/community-pond/2027-12-16/
CATEGORIES:Daily Presentations
ATTACH;FMTTYPE=image/jpeg:https://wondersofwildlife.org/wp-content/uploads/2020/07/AA_River-Monsters-9.jpg
END:VEVENT
BEGIN:VEVENT
DTSTART;TZID=America/Chicago:20271216T130000
DTEND;TZID=America/Chicago:20271216T140000
DTSTAMP:20260421T044729
CREATED:20200701T204617Z
LAST-MODIFIED:20250603T204306Z
UID:10004135-1828962000-1828965600@wondersofwildlife.org
SUMMARY:Shark Feeding | Out to Sea
DESCRIPTION:Every Tuesday\, Thursday and Saturday at 1:00 PM\, stop by our Out to Sea exhibit to watch our team feed the sharks at Wonders of Wildlife. This experience is complimentary to all Wonders of Wildlife guests. No reservations are required.
URL:https://wondersofwildlife.org/event/shark-feeding-out-to-sea-2021-07-08/2027-12-16/
LOCATION:Out to Sea
CATEGORIES:Daily Presentations
ATTACH;FMTTYPE=image/jpeg:https://wondersofwildlife.org/wp-content/uploads/2020/05/AA_Out-to-Sea_lower_shark-1.jpg
END:VEVENT
BEGIN:VEVENT
DTSTART;TZID=America/Chicago:20271218T130000
DTEND;TZID=America/Chicago:20271218T140000
DTSTAMP:20260421T044729
CREATED:20200701T204617Z
LAST-MODIFIED:20250603T204306Z
UID:10004136-1829134800-1829138400@wondersofwildlife.org
SUMMARY:Shark Feeding | Out to Sea
DESCRIPTION:Every Tuesday\, Thursday and Saturday at 1:00 PM\, stop by our Out to Sea exhibit to watch our team feed the sharks at Wonders of Wildlife. This experience is complimentary to all Wonders of Wildlife guests. No reservations are required.
URL:https://wondersofwildlife.org/event/shark-feeding-out-to-sea-2021-07-08/2027-12-18/
LOCATION:Out to Sea
CATEGORIES:Daily Presentations
ATTACH;FMTTYPE=image/jpeg:https://wondersofwildlife.org/wp-content/uploads/2020/05/AA_Out-to-Sea_lower_shark-1.jpg
END:VEVENT
BEGIN:VEVENT
DTSTART;TZID=America/Chicago:20271221T123000
DTEND;TZID=America/Chicago:20271221T133000
DTSTAMP:20260421T044729
CREATED:20240222T160724Z
LAST-MODIFIED:20240222T220051Z
UID:10004724-1829392200-1829395800@wondersofwildlife.org
SUMMARY:Community Pond Dive Show
DESCRIPTION:Every Tuesday and Thursday at 12:30 PM\, stop by our Community Pond exhibit to see our professional divers plunge into our two-story freshwater aquarium and care for the fish and wildlife in the exhibit. This experience is complimentary to all Wonders of Wildlife guests. No reservations are required.
URL:https://wondersofwildlife.org/event/community-pond/2027-12-21/
CATEGORIES:Daily Presentations
ATTACH;FMTTYPE=image/jpeg:https://wondersofwildlife.org/wp-content/uploads/2020/07/AA_River-Monsters-9.jpg
END:VEVENT
BEGIN:VEVENT
DTSTART;TZID=America/Chicago:20271221T130000
DTEND;TZID=America/Chicago:20271221T140000
DTSTAMP:20260421T044729
CREATED:20200701T204617Z
LAST-MODIFIED:20250603T204306Z
UID:10004137-1829394000-1829397600@wondersofwildlife.org
SUMMARY:Shark Feeding | Out to Sea
DESCRIPTION:Every Tuesday\, Thursday and Saturday at 1:00 PM\, stop by our Out to Sea exhibit to watch our team feed the sharks at Wonders of Wildlife. This experience is complimentary to all Wonders of Wildlife guests. No reservations are required.
URL:https://wondersofwildlife.org/event/shark-feeding-out-to-sea-2021-07-08/2027-12-21/
LOCATION:Out to Sea
CATEGORIES:Daily Presentations
ATTACH;FMTTYPE=image/jpeg:https://wondersofwildlife.org/wp-content/uploads/2020/05/AA_Out-to-Sea_lower_shark-1.jpg
END:VEVENT
BEGIN:VEVENT
DTSTART;TZID=America/Chicago:20271223T123000
DTEND;TZID=America/Chicago:20271223T133000
DTSTAMP:20260421T044729
CREATED:20240222T160724Z
LAST-MODIFIED:20240222T220051Z
UID:10004725-1829565000-1829568600@wondersofwildlife.org
SUMMARY:Community Pond Dive Show
DESCRIPTION:Every Tuesday and Thursday at 12:30 PM\, stop by our Community Pond exhibit to see our professional divers plunge into our two-story freshwater aquarium and care for the fish and wildlife in the exhibit. This experience is complimentary to all Wonders of Wildlife guests. No reservations are required.
URL:https://wondersofwildlife.org/event/community-pond/2027-12-23/
CATEGORIES:Daily Presentations
ATTACH;FMTTYPE=image/jpeg:https://wondersofwildlife.org/wp-content/uploads/2020/07/AA_River-Monsters-9.jpg
END:VEVENT
BEGIN:VEVENT
DTSTART;TZID=America/Chicago:20271223T130000
DTEND;TZID=America/Chicago:20271223T140000
DTSTAMP:20260421T044729
CREATED:20200701T204617Z
LAST-MODIFIED:20250603T204306Z
UID:10004138-1829566800-1829570400@wondersofwildlife.org
SUMMARY:Shark Feeding | Out to Sea
DESCRIPTION:Every Tuesday\, Thursday and Saturday at 1:00 PM\, stop by our Out to Sea exhibit to watch our team feed the sharks at Wonders of Wildlife. This experience is complimentary to all Wonders of Wildlife guests. No reservations are required.
URL:https://wondersofwildlife.org/event/shark-feeding-out-to-sea-2021-07-08/2027-12-23/
LOCATION:Out to Sea
CATEGORIES:Daily Presentations
ATTACH;FMTTYPE=image/jpeg:https://wondersofwildlife.org/wp-content/uploads/2020/05/AA_Out-to-Sea_lower_shark-1.jpg
END:VEVENT
BEGIN:VEVENT
DTSTART;TZID=America/Chicago:20271225T130000
DTEND;TZID=America/Chicago:20271225T140000
DTSTAMP:20260421T044729
CREATED:20200701T204617Z
LAST-MODIFIED:20250603T204306Z
UID:10004139-1829739600-1829743200@wondersofwildlife.org
SUMMARY:Shark Feeding | Out to Sea
DESCRIPTION:Every Tuesday\, Thursday and Saturday at 1:00 PM\, stop by our Out to Sea exhibit to watch our team feed the sharks at Wonders of Wildlife. This experience is complimentary to all Wonders of Wildlife guests. No reservations are required.
URL:https://wondersofwildlife.org/event/shark-feeding-out-to-sea-2021-07-08/2027-12-25/
LOCATION:Out to Sea
CATEGORIES:Daily Presentations
ATTACH;FMTTYPE=image/jpeg:https://wondersofwildlife.org/wp-content/uploads/2020/05/AA_Out-to-Sea_lower_shark-1.jpg
END:VEVENT
BEGIN:VEVENT
DTSTART;TZID=America/Chicago:20271228T123000
DTEND;TZID=America/Chicago:20271228T133000
DTSTAMP:20260421T044729
CREATED:20240222T160724Z
LAST-MODIFIED:20240222T220051Z
UID:10004726-1829997000-1830000600@wondersofwildlife.org
SUMMARY:Community Pond Dive Show
DESCRIPTION:Every Tuesday and Thursday at 12:30 PM\, stop by our Community Pond exhibit to see our professional divers plunge into our two-story freshwater aquarium and care for the fish and wildlife in the exhibit. This experience is complimentary to all Wonders of Wildlife guests. No reservations are required.
URL:https://wondersofwildlife.org/event/community-pond/2027-12-28/
CATEGORIES:Daily Presentations
ATTACH;FMTTYPE=image/jpeg:https://wondersofwildlife.org/wp-content/uploads/2020/07/AA_River-Monsters-9.jpg
END:VEVENT
BEGIN:VEVENT
DTSTART;TZID=America/Chicago:20271228T130000
DTEND;TZID=America/Chicago:20271228T140000
DTSTAMP:20260421T044729
CREATED:20200701T204617Z
LAST-MODIFIED:20250603T204306Z
UID:10004140-1829998800-1830002400@wondersofwildlife.org
SUMMARY:Shark Feeding | Out to Sea
DESCRIPTION:Every Tuesday\, Thursday and Saturday at 1:00 PM\, stop by our Out to Sea exhibit to watch our team feed the sharks at Wonders of Wildlife. This experience is complimentary to all Wonders of Wildlife guests. No reservations are required.
URL:https://wondersofwildlife.org/event/shark-feeding-out-to-sea-2021-07-08/2027-12-28/
LOCATION:Out to Sea
CATEGORIES:Daily Presentations
ATTACH;FMTTYPE=image/jpeg:https://wondersofwildlife.org/wp-content/uploads/2020/05/AA_Out-to-Sea_lower_shark-1.jpg
END:VEVENT
BEGIN:VEVENT
DTSTART;TZID=America/Chicago:20271230T123000
DTEND;TZID=America/Chicago:20271230T133000
DTSTAMP:20260421T044729
CREATED:20240222T160724Z
LAST-MODIFIED:20240222T220051Z
UID:10004727-1830169800-1830173400@wondersofwildlife.org
SUMMARY:Community Pond Dive Show
DESCRIPTION:Every Tuesday and Thursday at 12:30 PM\, stop by our Community Pond exhibit to see our professional divers plunge into our two-story freshwater aquarium and care for the fish and wildlife in the exhibit. This experience is complimentary to all Wonders of Wildlife guests. No reservations are required.
URL:https://wondersofwildlife.org/event/community-pond/2027-12-30/
CATEGORIES:Daily Presentations
ATTACH;FMTTYPE=image/jpeg:https://wondersofwildlife.org/wp-content/uploads/2020/07/AA_River-Monsters-9.jpg
END:VEVENT
BEGIN:VEVENT
DTSTART;TZID=America/Chicago:20271230T130000
DTEND;TZID=America/Chicago:20271230T140000
DTSTAMP:20260421T044729
CREATED:20200701T204617Z
LAST-MODIFIED:20250603T204306Z
UID:10004141-1830171600-1830175200@wondersofwildlife.org
SUMMARY:Shark Feeding | Out to Sea
DESCRIPTION:Every Tuesday\, Thursday and Saturday at 1:00 PM\, stop by our Out to Sea exhibit to watch our team feed the sharks at Wonders of Wildlife. This experience is complimentary to all Wonders of Wildlife guests. No reservations are required.
URL:https://wondersofwildlife.org/event/shark-feeding-out-to-sea-2021-07-08/2027-12-30/
LOCATION:Out to Sea
CATEGORIES:Daily Presentations
ATTACH;FMTTYPE=image/jpeg:https://wondersofwildlife.org/wp-content/uploads/2020/05/AA_Out-to-Sea_lower_shark-1.jpg
END:VEVENT
BEGIN:VEVENT
DTSTART;TZID=America/Chicago:20280101T130000
DTEND;TZID=America/Chicago:20280101T140000
DTSTAMP:20260421T044729
CREATED:20200701T204617Z
LAST-MODIFIED:20250603T204306Z
UID:10004142-1830344400-1830348000@wondersofwildlife.org
SUMMARY:Shark Feeding | Out to Sea
DESCRIPTION:Every Tuesday\, Thursday and Saturday at 1:00 PM\, stop by our Out to Sea exhibit to watch our team feed the sharks at Wonders of Wildlife. This experience is complimentary to all Wonders of Wildlife guests. No reservations are required.
URL:https://wondersofwildlife.org/event/shark-feeding-out-to-sea-2021-07-08/2028-01-01/
LOCATION:Out to Sea
CATEGORIES:Daily Presentations
ATTACH;FMTTYPE=image/jpeg:https://wondersofwildlife.org/wp-content/uploads/2020/05/AA_Out-to-Sea_lower_shark-1.jpg
END:VEVENT
BEGIN:VEVENT
DTSTART;TZID=America/Chicago:20280104T123000
DTEND;TZID=America/Chicago:20280104T133000
DTSTAMP:20260421T044729
CREATED:20240222T160724Z
LAST-MODIFIED:20240222T220051Z
UID:10004728-1830601800-1830605400@wondersofwildlife.org
SUMMARY:Community Pond Dive Show
DESCRIPTION:Every Tuesday and Thursday at 12:30 PM\, stop by our Community Pond exhibit to see our professional divers plunge into our two-story freshwater aquarium and care for the fish and wildlife in the exhibit. This experience is complimentary to all Wonders of Wildlife guests. No reservations are required.
URL:https://wondersofwildlife.org/event/community-pond/2028-01-04/
CATEGORIES:Daily Presentations
ATTACH;FMTTYPE=image/jpeg:https://wondersofwildlife.org/wp-content/uploads/2020/07/AA_River-Monsters-9.jpg
END:VEVENT
BEGIN:VEVENT
DTSTART;TZID=America/Chicago:20280104T130000
DTEND;TZID=America/Chicago:20280104T140000
DTSTAMP:20260421T044729
CREATED:20200701T204617Z
LAST-MODIFIED:20250603T204306Z
UID:10004143-1830603600-1830607200@wondersofwildlife.org
SUMMARY:Shark Feeding | Out to Sea
DESCRIPTION:Every Tuesday\, Thursday and Saturday at 1:00 PM\, stop by our Out to Sea exhibit to watch our team feed the sharks at Wonders of Wildlife. This experience is complimentary to all Wonders of Wildlife guests. No reservations are required.
URL:https://wondersofwildlife.org/event/shark-feeding-out-to-sea-2021-07-08/2028-01-04/
LOCATION:Out to Sea
CATEGORIES:Daily Presentations
ATTACH;FMTTYPE=image/jpeg:https://wondersofwildlife.org/wp-content/uploads/2020/05/AA_Out-to-Sea_lower_shark-1.jpg
END:VEVENT
BEGIN:VEVENT
DTSTART;TZID=America/Chicago:20280106T123000
DTEND;TZID=America/Chicago:20280106T133000
DTSTAMP:20260421T044729
CREATED:20240222T160724Z
LAST-MODIFIED:20240222T220051Z
UID:10004729-1830774600-1830778200@wondersofwildlife.org
SUMMARY:Community Pond Dive Show
DESCRIPTION:Every Tuesday and Thursday at 12:30 PM\, stop by our Community Pond exhibit to see our professional divers plunge into our two-story freshwater aquarium and care for the fish and wildlife in the exhibit. This experience is complimentary to all Wonders of Wildlife guests. No reservations are required.
URL:https://wondersofwildlife.org/event/community-pond/2028-01-06/
CATEGORIES:Daily Presentations
ATTACH;FMTTYPE=image/jpeg:https://wondersofwildlife.org/wp-content/uploads/2020/07/AA_River-Monsters-9.jpg
END:VEVENT
BEGIN:VEVENT
DTSTART;TZID=America/Chicago:20280106T130000
DTEND;TZID=America/Chicago:20280106T140000
DTSTAMP:20260421T044729
CREATED:20200701T204617Z
LAST-MODIFIED:20250603T204306Z
UID:10004144-1830776400-1830780000@wondersofwildlife.org
SUMMARY:Shark Feeding | Out to Sea
DESCRIPTION:Every Tuesday\, Thursday and Saturday at 1:00 PM\, stop by our Out to Sea exhibit to watch our team feed the sharks at Wonders of Wildlife. This experience is complimentary to all Wonders of Wildlife guests. No reservations are required.
URL:https://wondersofwildlife.org/event/shark-feeding-out-to-sea-2021-07-08/2028-01-06/
LOCATION:Out to Sea
CATEGORIES:Daily Presentations
ATTACH;FMTTYPE=image/jpeg:https://wondersofwildlife.org/wp-content/uploads/2020/05/AA_Out-to-Sea_lower_shark-1.jpg
END:VEVENT
BEGIN:VEVENT
DTSTART;TZID=America/Chicago:20280108T130000
DTEND;TZID=America/Chicago:20280108T140000
DTSTAMP:20260421T044729
CREATED:20200701T204617Z
LAST-MODIFIED:20250603T204306Z
UID:10004145-1830949200-1830952800@wondersofwildlife.org
SUMMARY:Shark Feeding | Out to Sea
DESCRIPTION:Every Tuesday\, Thursday and Saturday at 1:00 PM\, stop by our Out to Sea exhibit to watch our team feed the sharks at Wonders of Wildlife. This experience is complimentary to all Wonders of Wildlife guests. No reservations are required.
URL:https://wondersofwildlife.org/event/shark-feeding-out-to-sea-2021-07-08/2028-01-08/
LOCATION:Out to Sea
CATEGORIES:Daily Presentations
ATTACH;FMTTYPE=image/jpeg:https://wondersofwildlife.org/wp-content/uploads/2020/05/AA_Out-to-Sea_lower_shark-1.jpg
END:VEVENT
BEGIN:VEVENT
DTSTART;TZID=America/Chicago:20280111T123000
DTEND;TZID=America/Chicago:20280111T133000
DTSTAMP:20260421T044729
CREATED:20240222T160724Z
LAST-MODIFIED:20240222T220051Z
UID:10004730-1831206600-1831210200@wondersofwildlife.org
SUMMARY:Community Pond Dive Show
DESCRIPTION:Every Tuesday and Thursday at 12:30 PM\, stop by our Community Pond exhibit to see our professional divers plunge into our two-story freshwater aquarium and care for the fish and wildlife in the exhibit. This experience is complimentary to all Wonders of Wildlife guests. No reservations are required.
URL:https://wondersofwildlife.org/event/community-pond/2028-01-11/
CATEGORIES:Daily Presentations
ATTACH;FMTTYPE=image/jpeg:https://wondersofwildlife.org/wp-content/uploads/2020/07/AA_River-Monsters-9.jpg
END:VEVENT
BEGIN:VEVENT
DTSTART;TZID=America/Chicago:20280111T130000
DTEND;TZID=America/Chicago:20280111T140000
DTSTAMP:20260421T044729
CREATED:20200701T204617Z
LAST-MODIFIED:20250603T204306Z
UID:10004146-1831208400-1831212000@wondersofwildlife.org
SUMMARY:Shark Feeding | Out to Sea
DESCRIPTION:Every Tuesday\, Thursday and Saturday at 1:00 PM\, stop by our Out to Sea exhibit to watch our team feed the sharks at Wonders of Wildlife. This experience is complimentary to all Wonders of Wildlife guests. No reservations are required.
URL:https://wondersofwildlife.org/event/shark-feeding-out-to-sea-2021-07-08/2028-01-11/
LOCATION:Out to Sea
CATEGORIES:Daily Presentations
ATTACH;FMTTYPE=image/jpeg:https://wondersofwildlife.org/wp-content/uploads/2020/05/AA_Out-to-Sea_lower_shark-1.jpg
END:VEVENT
END:VCALENDAR