BEGIN:VCALENDAR
VERSION:2.0
PRODID:-//Wonders of Wildlife - ECPv6.15.18//NONSGML v1.0//EN
CALSCALE:GREGORIAN
METHOD:PUBLISH
X-WR-CALNAME:Wonders of Wildlife
X-ORIGINAL-URL:https://wondersofwildlife.org
X-WR-CALDESC:Events for Wonders of Wildlife
REFRESH-INTERVAL;VALUE=DURATION:PT1H
X-Robots-Tag:noindex
X-PUBLISHED-TTL:PT1H
BEGIN:VTIMEZONE
TZID:America/Chicago
BEGIN:DAYLIGHT
TZOFFSETFROM:-0600
TZOFFSETTO:-0500
TZNAME:CDT
DTSTART:20250309T080000
END:DAYLIGHT
BEGIN:STANDARD
TZOFFSETFROM:-0500
TZOFFSETTO:-0600
TZNAME:CST
DTSTART:20251102T070000
END:STANDARD
BEGIN:DAYLIGHT
TZOFFSETFROM:-0600
TZOFFSETTO:-0500
TZNAME:CDT
DTSTART:20260308T080000
END:DAYLIGHT
BEGIN:STANDARD
TZOFFSETFROM:-0500
TZOFFSETTO:-0600
TZNAME:CST
DTSTART:20261101T070000
END:STANDARD
BEGIN:DAYLIGHT
TZOFFSETFROM:-0600
TZOFFSETTO:-0500
TZNAME:CDT
DTSTART:20270314T080000
END:DAYLIGHT
BEGIN:STANDARD
TZOFFSETFROM:-0500
TZOFFSETTO:-0600
TZNAME:CST
DTSTART:20271107T070000
END:STANDARD
END:VTIMEZONE
BEGIN:VEVENT
DTSTART;VALUE=DATE:20260419
DTEND;VALUE=DATE:20260426
DTSTAMP:20260421T103923
CREATED:20260420T200944Z
LAST-MODIFIED:20260420T200944Z
UID:10006802-1776556800-1777161599@wondersofwildlife.org
SUMMARY:Volunteer Appreciation Week
DESCRIPTION:This week we show appreciation and thanks to our amazing team of volunteers that help keep WOW as America’s Best Aquarium! Be sure to thank a volunteer this week when you visit Wonders of Wildlife\, and if you’d like to join our volunteer team\, head over to our Volunteer page for all the details! \nClick Here To Learn More
URL:https://wondersofwildlife.org/event/volunteer-appreciation-week/
CATEGORIES:Featured
ATTACH;FMTTYPE=image/png:https://wondersofwildlife.org/wp-content/uploads/2026/03/2026_WOW_Volunteers_WebpageUpdate_TNT_900x600.png
END:VEVENT
END:VCALENDAR