BEGIN:VCALENDAR
VERSION:2.0
PRODID:-//Wonders of Wildlife - ECPv6.15.18//NONSGML v1.0//EN
CALSCALE:GREGORIAN
METHOD:PUBLISH
X-WR-CALNAME:Wonders of Wildlife
X-ORIGINAL-URL:https://wondersofwildlife.org
X-WR-CALDESC:Events for Wonders of Wildlife
REFRESH-INTERVAL;VALUE=DURATION:PT1H
X-Robots-Tag:noindex
X-PUBLISHED-TTL:PT1H
BEGIN:VTIMEZONE
TZID:America/Chicago
BEGIN:DAYLIGHT
TZOFFSETFROM:-0600
TZOFFSETTO:-0500
TZNAME:CDT
DTSTART:20250309T080000
END:DAYLIGHT
BEGIN:STANDARD
TZOFFSETFROM:-0500
TZOFFSETTO:-0600
TZNAME:CST
DTSTART:20251102T070000
END:STANDARD
BEGIN:DAYLIGHT
TZOFFSETFROM:-0600
TZOFFSETTO:-0500
TZNAME:CDT
DTSTART:20260308T080000
END:DAYLIGHT
BEGIN:STANDARD
TZOFFSETFROM:-0500
TZOFFSETTO:-0600
TZNAME:CST
DTSTART:20261101T070000
END:STANDARD
BEGIN:DAYLIGHT
TZOFFSETFROM:-0600
TZOFFSETTO:-0500
TZNAME:CDT
DTSTART:20270314T080000
END:DAYLIGHT
BEGIN:STANDARD
TZOFFSETFROM:-0500
TZOFFSETTO:-0600
TZNAME:CST
DTSTART:20271107T070000
END:STANDARD
END:VTIMEZONE
BEGIN:VEVENT
DTSTART;TZID=America/Chicago:20260421T090000
DTEND;TZID=America/Chicago:20260421T120000
DTSTAMP:20260421T044531
CREATED:20251112T150741Z
LAST-MODIFIED:20251211T155946Z
UID:10006540-1776762000-1776772800@wondersofwildlife.org
SUMMARY:Homeschool EdVenture: Nature’s Nurturers
DESCRIPTION:Nature has nurtured humanity for centuries\, and it is calling for help! Join us as we answer the call by learning about the different causes of pollution (air\, water\, light)\, the impact of pollution on the Earth\, and how we can help! Through challenging\, hands-on simulations and take-home solutions\, we will leave ready to have a beneficial impact on our Earth!
URL:https://wondersofwildlife.org/event/homeschool-edventure-natures-nurturers/
CATEGORIES:7th - 12th Grade,Homeschool
ATTACH;FMTTYPE=image/jpeg:https://wondersofwildlife.org/wp-content/uploads/2025/11/AdobeStock_760775525-scaled-e1765468776828.jpeg
END:VEVENT
END:VCALENDAR